 BEGIN:VCALENDAR
VERSION:2.0
PRODID:-//Awareness Days - ECPv6.15.20//NONSGML v1.0//EN
CALSCALE:GREGORIAN
METHOD:PUBLISH
X-ORIGINAL-URL:https://www.awarenessdays.com
X-WR-CALDESC:Events for Awareness Days
REFRESH-INTERVAL;VALUE=DURATION:PT1H
X-Robots-Tag:noindex
X-PUBLISHED-TTL:PT1H
BEGIN:VTIMEZONE
TZID:Europe/London
BEGIN:DAYLIGHT
TZOFFSETFROM:+0000
TZOFFSETTO:+0100
TZNAME:BST
DTSTART:20240331T010000
END:DAYLIGHT
BEGIN:STANDARD
TZOFFSETFROM:+0100
TZOFFSETTO:+0000
TZNAME:GMT
DTSTART:20241027T010000
END:STANDARD
BEGIN:DAYLIGHT
TZOFFSETFROM:+0000
TZOFFSETTO:+0100
TZNAME:BST
DTSTART:20250330T010000
END:DAYLIGHT
BEGIN:STANDARD
TZOFFSETFROM:+0100
TZOFFSETTO:+0000
TZNAME:GMT
DTSTART:20251026T010000
END:STANDARD
BEGIN:DAYLIGHT
TZOFFSETFROM:+0000
TZOFFSETTO:+0100
TZNAME:BST
DTSTART:20260329T010000
END:DAYLIGHT
BEGIN:STANDARD
TZOFFSETFROM:+0100
TZOFFSETTO:+0000
TZNAME:GMT
DTSTART:20261025T010000
END:STANDARD
BEGIN:DAYLIGHT
TZOFFSETFROM:+0000
TZOFFSETTO:+0100
TZNAME:BST
DTSTART:20270328T010000
END:DAYLIGHT
BEGIN:STANDARD
TZOFFSETFROM:+0100
TZOFFSETTO:+0000
TZNAME:GMT
DTSTART:20271031T010000
END:STANDARD
END:VTIMEZONE
BEGIN:VEVENT
DTSTART;VALUE=DATE:20251220
DTEND;VALUE=DATE:20260106
DTSTAMP:20260421T212945
CREATED:20241124T230031Z
LAST-MODIFIED:20260106T115459Z
UID:10019664-1766188800-1767657599@www.awarenessdays.com
SUMMARY:Festival Of Winter Walks 2026
DESCRIPTION:[fusion_builder_container type=”flex” hundred_percent=”no” equal_height_columns=”no” menu_anchor=”” hide_on_mobile=”small-visibility\,medium-visibility\,large-visibility” class=”” id=”” background_color=”” background_image=”” background_position=”center center” background_repeat=”no-repeat” fade=”no” background_parallax=”none” parallax_speed=”0.3″ video_mp4=”” video_webm=”” video_ogv=”” video_url=”” video_aspect_ratio=”16:9″ video_loop=”yes” video_mute=”yes” overlay_color=”” video_preview_image=”” border_color=”” border_style=”solid” padding_top=”” padding_bottom=”” padding_left=”” padding_right=””][fusion_builder_row][fusion_builder_column type=”1_1″ layout=”1_1″ background_position=”left top” background_color=”” border_color=”” border_style=”solid” border_position=”all” spacing=”yes” background_image=”” background_repeat=”no-repeat” padding_top=”” padding_right=”” padding_bottom=”” padding_left=”” margin_top=”0px” margin_bottom=”0px” class=”” id=”” animation_type=”” animation_speed=”0.3″ animation_direction=”left” hide_on_mobile=”small-visibility\,medium-visibility\,large-visibility” center_content=”no” last=”true” min_height=”” hover_type=”none” link=”” border_sizes_top=”” border_sizes_bottom=”” border_sizes_left=”” border_sizes_right=”” first=”true”][fusion_text columns=”” column_min_width=”” column_spacing=”” rule_style=”” rule_size=”” rule_color=”” hue=”” saturation=”” lightness=”” alpha=”” content_alignment_medium=”” content_alignment_small=”” content_alignment=”” hide_on_mobile=”small-visibility\,medium-visibility\,large-visibility” sticky_display=”normal\,sticky” class=”” id=”” margin_top=”” margin_right=”” margin_bottom=”” margin_left=”” fusion_font_family_text_font=”” fusion_font_variant_text_font=”” font_size=”” line_height=”” letter_spacing=”” text_transform=”” text_color=”” animation_type=”” animation_direction=”left” animation_color=”” animation_speed=”0.3″ animation_delay=”0″ animation_offset=”” logics=””]\nThe Festival of Winter Walks is an annual event that encourages people to embrace the beauty of winter by going for walks in nature. It’s a celebration of the great outdoors during the colder months and an opportunity to connect with nature\, stay active\, and enjoy the crisp\, winter air. \nWhat is the Festival of Winter Walks 2026?\nThe Festival of Winter Walks is a time to explore the tranquility and serenity of winter landscapes. It encourages individuals and families to bundle up\, step outside\, and go for refreshing walks in parks\, forests\, and scenic areas. \nWhen is the Festival of Winter Walks 2026?\nThe Festival of Winter Walks typically takes place during the holiday season\, with walks organized on various dates in December and January. It’s a wonderful way to spend time outdoors during the winter holidays. \nHow to Celebrate the Festival of Winter Walks 2026?\nCelebrating the Festival of Winter Walks is all about embracing the magic of winter landscapes and enjoying the benefits of outdoor activity. Here are some ways to celebrate: \n\nPlan a Winter Hike: Choose a nearby nature trail\, park\, or woodland area and plan a winter hike with friends or family.\nExplore Local Scenery: Take the time to explore the beauty of your local surroundings\, whether it’s a snowy forest or a frosty beach.\nStay Warm: Bundle up in warm clothing\, wear comfortable boots\, and bring along hot beverages or snacks to enjoy during your walk.\nBirdwatching: Winter is a great time for birdwatching\, as many species of birds can be spotted more easily without the foliage of spring and summer.\nPhotography: Capture the stunning winter landscapes with your camera and share your photos with friends and on social media.\n\nHistory of the Festival of Winter Walks\nThe Festival of Winter Walks is not associated with a specific historical event or organization. Instead\, it represents a collective effort to encourage people to embrace the beauty of winter and make the most of the season by getting outdoors and staying active. \nIt’s a reminder that nature is always there to be enjoyed\, no matter the season. \nRelevant Hashtags\nWhen sharing your winter walking experiences and connecting with fellow nature enthusiasts during the Festival of Winter Walks\, consider using these relevant hashtags: \n\n#WinterWalks\n#FestivalOfWinterWalks\n#NatureExploration\n#WinterWonderland\n#OutdoorAdventure\n#StayActive\n\nUsing these hashtags can help you join the conversation and share the joy of winter walks with a broader community of outdoor enthusiasts. \n[/fusion_text][/fusion_builder_column][/fusion_builder_row][/fusion_builder_container]
URL:https://www.awarenessdays.com/awareness-days-calendar/festival-of-winter-walks/
LOCATION:United Kingdom\, United Kingdom
CATEGORIES:Community & Inclusion Awareness
ATTACH;FMTTYPE=image/jpeg:https://www.awarenessdays.com/wp-content/uploads/2024/11/iStock-1286553685-1-1.jpg
GEO:55.378051;-3.435973
END:VEVENT
END:VCALENDAR