 BEGIN:VCALENDAR
VERSION:2.0
PRODID:-//Awareness Days - ECPv6.15.20//NONSGML v1.0//EN
CALSCALE:GREGORIAN
METHOD:PUBLISH
X-WR-CALNAME:Awareness Days
X-ORIGINAL-URL:https://www.awarenessdays.com
X-WR-CALDESC:Events for Awareness Days
REFRESH-INTERVAL;VALUE=DURATION:PT1H
X-Robots-Tag:noindex
X-PUBLISHED-TTL:PT1H
BEGIN:VTIMEZONE
TZID:America/New_York
BEGIN:DAYLIGHT
TZOFFSETFROM:-0500
TZOFFSETTO:-0400
TZNAME:EDT
DTSTART:20250309T070000
END:DAYLIGHT
BEGIN:STANDARD
TZOFFSETFROM:-0400
TZOFFSETTO:-0500
TZNAME:EST
DTSTART:20251102T060000
END:STANDARD
BEGIN:DAYLIGHT
TZOFFSETFROM:-0500
TZOFFSETTO:-0400
TZNAME:EDT
DTSTART:20260308T070000
END:DAYLIGHT
BEGIN:STANDARD
TZOFFSETFROM:-0400
TZOFFSETTO:-0500
TZNAME:EST
DTSTART:20261101T060000
END:STANDARD
BEGIN:DAYLIGHT
TZOFFSETFROM:-0500
TZOFFSETTO:-0400
TZNAME:EDT
DTSTART:20270314T070000
END:DAYLIGHT
BEGIN:STANDARD
TZOFFSETFROM:-0400
TZOFFSETTO:-0500
TZNAME:EST
DTSTART:20271107T060000
END:STANDARD
END:VTIMEZONE
BEGIN:VEVENT
DTSTART;VALUE=DATE:20260727
DTEND;VALUE=DATE:20260901
DTSTAMP:20260423T064741
CREATED:20260312T081901Z
LAST-MODIFIED:20260312T081904Z
UID:10019416-1785110400-1788220799@www.awarenessdays.com
SUMMARY:National Fishing Month 2026
DESCRIPTION:National Fishing Month is a celebration dedicated to the joys of fishing and promoting the sport as a family-friendly outdoor activity. Throughout this month\, anglers of all ages and skill levels are encouraged to get out on the water\, enjoy the peacefulness of nature\, and experience the thrill of fishing. The observance highlights the benefits of fishing\, including relaxation\, bonding with family and friends\, and connecting with nature. It also emphasizes the importance of conservation and responsible fishing practices to preserve aquatic ecosystems for future generations. \nWhat is National Fishing Month?\nNational Fishing Month is an annual event that encourages people across the country to take part in fishing activities. Whether you’re a seasoned angler or new to the sport\, National Fishing Month offers the perfect opportunity to learn more about fishing\, discover new fishing spots\, and enjoy the health and wellness benefits that come from spending time outdoors. The month also provides a platform for promoting conservation efforts and educating the public on the sustainable use of aquatic resources. \nWhen is National Fishing Month?\nNational Fishing Month is celebrated from July 27th to September 1st each year. This period is chosen because it falls during the summer when the weather is ideal for outdoor activities\, and many people are on vacation\, making it the perfect time to engage in fishing. \nHow to Celebrate National Fishing Month\nThere are many ways to participate in National Fishing Month and make the most of the fishing season: \n\nGo Fishing: Plan a fishing trip to your local lake\, river\, or coastal area. Whether it’s a solo outing\, a family adventure\, or a gathering with friends\, fishing is a great way to unwind and enjoy the outdoors.\nLearn New Fishing Techniques: Use this month as an opportunity to learn new fishing methods\, such as fly fishing\, baitcasting\, or ice fishing. Many communities offer classes\, workshops\, and demonstrations to help you improve your skills.\nTake a Child Fishing: Introduce a child to the joys of fishing. Teaching kids to fish can instill a love for the outdoors and create lasting memories. Many states offer free fishing days where no license is required\, making it easier for families to participate.\nExplore New Fishing Spots: Discover new fishing locations\, whether it’s a hidden pond\, a scenic river\, or a coastal hotspot. Exploring different environments can add excitement to your fishing experience.\nPractice Catch and Release: Emphasize conservation by practicing catch and release\, especially for species that are threatened or endangered. Use proper techniques to ensure the fish are handled gently and returned to the water safely.\nSupport Conservation Efforts: Donate to or volunteer with organizations dedicated to preserving aquatic habitats and promoting sustainable fishing practices. Your efforts can help protect fish populations and maintain healthy ecosystems.\n\nHistory of the Event\nNational Fishing Month was established to celebrate fishing as a pastime that brings people together and connects them with nature. Over the years\, it has grown into a significant event supported by various fishing and outdoor organizations\, as well as state and local agencies. The observance serves not only to promote fishing but also to highlight the importance of conservation and responsible stewardship of aquatic resources. National Fishing Month encourages people of all ages to experience the joys of fishing while fostering an appreciation for the natural world. \nRelevant Hashtags\n\n#NationalFishingMonth\n#FishingFun\n#GoneFishing\n#FishingLife\n#CatchAndRelease\n\nWhen is National Fishing Month 2026?\n\n\n\nYear\nStart Date\nEnd Date\n\n\n\n\n2026\n27 July\n31 August\n\n\n2027\nTBC\nTBC\n\n\n2028\nTBC\nTBC
URL:https://www.awarenessdays.com/awareness-days-calendar/national-fishing-month/
LOCATION:International
CATEGORIES:Animals & Wildlife Awareness
ATTACH;FMTTYPE=image/jpeg:https://www.awarenessdays.com/wp-content/uploads/2018/07/iStock_88025521_MEDIUM.jpg
GEO:37.09024;-95.712891
END:VEVENT
BEGIN:VEVENT
DTSTART;VALUE=DATE:20260801
DTEND;VALUE=DATE:20260901
DTSTAMP:20260423T064741
CREATED:20260312T082304Z
LAST-MODIFIED:20260312T082307Z
UID:10019946-1785542400-1788220799@www.awarenessdays.com
SUMMARY:National Family History Month 2026
DESCRIPTION:National Family History Month (NFHM) is an annual event held every August in Australia and New Zealand\, dedicated to encouraging individuals to explore their ancestry and heritage. Established by the Australasian Federation of Family History Organisations (AFFHO) in 2006\, NFHM has grown to encompass a wide array of activities\, workshops\, and events aimed at both novice and experienced genealogists. The month-long celebration offers a unique opportunity to delve into family histories\, uncover ancestral stories\, and connect with community heritage. \nWhat is National Family History Month?\nNational Family History Month is a collaborative initiative that brings together libraries\, archives\, genealogical societies\, and community groups to promote the importance of family history research. Throughout August\, participants can engage in various events such as seminars\, webinars\, exhibitions\, and hands-on workshops. These activities are designed to provide resources\, guidance\, and support for individuals interested in tracing their lineage and understanding their family’s past. \nWhen is National Family History Month?\nNFHM is observed annually during the entire month of August. In 2026\, the event will run from August 1 to August 31\, offering a full month of opportunities for individuals to engage with their family history and participate in related events across the country. \nWhy National Family History Month Matters\nUnderstanding one’s family history fosters a sense of identity and belonging. NFHM plays a crucial role in preserving cultural heritage\, promoting intergenerational connections\, and encouraging the documentation of personal and communal histories. By participating in NFHM\, individuals contribute to the collective memory of communities and ensure that stories\, traditions\, and experiences are passed down to future generations. \n2026 Theme: “Family as a Community – Together We Can Do So Much More”\nThe theme for NFHM 2026\, “Family as a Community – Together We Can Do So Much More”\, emphasizes the collaborative nature of family history research. It highlights the importance of community involvement\, shared stories\, and collective efforts in uncovering and preserving family histories. The theme encourages individuals to engage with relatives\, local historians\, and community groups to enrich their understanding of their heritage. \nHow to Get Involved in National Family History Month\nThere are numerous ways to participate in NFHM: \n\nAttend Events: Join workshops\, seminars\, and exhibitions hosted by libraries\, archives\, and genealogical societies.\nStart Your Research: Utilize online databases\, archives\, and library resources to begin or continue your family history journey.\nShare Your Story: Document and share your family’s history through writing\, storytelling\, or creating a family tree.\nVolunteer: Offer your time to local history groups or libraries to assist others in their research.\nEngage Online: Participate in virtual events and discussions on social media platforms using the official NFHM hashtags.\n\nHistory of National Family History Month\nInitiated in 2006 by AFFHO\, NFHM began as a week-long event and expanded to a month-long celebration in 2013 to accommodate growing interest and participation. Over the years\, NFHM has become a significant event in the genealogical calendar\, supported by various organizations and government bodies. It serves as a platform to highlight the importance of preserving family histories and provides resources and support for individuals embarking on their genealogical journeys. \nKey Issues Addressed During National Family History Month\n\nPreservation of Heritage: Encouraging the documentation and safeguarding of family stories\, photographs\, and records.\nEducation: Providing resources and training to assist individuals in conducting effective genealogical research.\nCommunity Engagement: Fostering connections between individuals and local history groups to promote shared learning and collaboration.\nAccessibility: Highlighting the availability of online databases and resources to make family history research more accessible to all.\n\nInteresting Facts About National Family History Month\n\nNFHM has been celebrated annually since 2006\, with participation from various organizations across Australia and New Zealand.\nThe event has evolved from a week-long celebration to a month-long initiative due to increasing public interest.\nEach year\, NFHM features a unique theme to guide activities and focus areas for participants.\nNFHM includes the Nick Vine Hall Award\, recognizing excellence in family history journalism and publications.\n\nHashtags\n#NationalFamilyHistoryMonth #NFHM2026 #FamilyHistory #GenealogyAustralia #DiscoverYourRoots \nLinks\n\nAustralasian Federation of Family History Organisations (AFFHO)\nNational Family History Month Official Website\nState Library Victoria – National Family History Month\nLibraries Tasmania – National Family History Month\nState Library of Queensland – Family History Month
URL:https://www.awarenessdays.com/awareness-days-calendar/national-family-history-month/
LOCATION:Australia
CATEGORIES:Arts, Culture & Heritage,United States
ATTACH;FMTTYPE=image/jpeg:https://www.awarenessdays.com/wp-content/uploads/2025/06/iStock-153079734-1.jpg
END:VEVENT
BEGIN:VEVENT
DTSTART;VALUE=DATE:20260801
DTEND;VALUE=DATE:20260901
DTSTAMP:20260423T064741
CREATED:20260312T082437Z
LAST-MODIFIED:20260312T082440Z
UID:10019395-1785542400-1788220799@www.awarenessdays.com
SUMMARY:National Immunization Awareness Month 2026
DESCRIPTION:Every August\, National Immunization Awareness Month (NIAM) shines a spotlight on one of the most effective tools we have to protect our health: vaccines. It’s a time when healthcare providers\, public health organizations\, and everyday people come together to remind us that staying up to date on vaccinations isn’t just about personal well-being – it’s about protecting the whole community. In 2026\, NIAM continues its mission to educate\, empower\, and support immunization across all stages of life. \nWhat is National Immunization Awareness Month?\nNIAM is a national observance held each August in the United States\, organized to highlight the importance of vaccination for people of all ages. From infants to older adults\, immunizations play a critical role in preventing serious diseases like measles\, whooping cough\, flu\, and HPV-related cancers. The month offers a timely reminder as families prepare for back-to-school season and flu season approaches. \nHealthcare professionals use this time to promote routine vaccinations\, while communities run educational campaigns to counter misinformation and reduce vaccine hesitancy. Whether it’s a pediatrician reminding parents about childhood immunizations or a local clinic hosting free flu shot drives\, the goal is simple: make immunization information accessible\, accurate\, and actionable. \nWhen is National Immunization Awareness Month?\nNational Immunization Awareness Month takes place throughout the entire month of August. While it’s a fixed observance each year\, the themes and focus areas can vary weekly. These often include infant and childhood immunizations\, vaccinations for teens and adults\, and the importance of vaccines during pregnancy or for those with chronic health conditions. Local events\, social media campaigns\, and public service announcements typically run all month long. \nWhy National Immunization Awareness Month Matters\nVaccines save lives – but their success can make them easy to overlook. Thanks to immunization\, diseases that once claimed thousands of lives each year have been drastically reduced or even eliminated in some regions. But this progress is fragile. When immunization rates drop\, preventable diseases can resurface quickly\, as seen with recent measles outbreaks in communities with low vaccination coverage. \nNIAM matters because it helps close gaps in vaccine access\, addresses misinformation\, and reminds us that immunization is a shared responsibility. It’s also a chance to reach underserved communities where barriers to healthcare can lead to missed vaccines – and missed chances to stay protected. \nHow to Get Involved in National Immunization Awareness Month\nWhether you’re a parent\, teacher\, healthcare worker\, or simply someone who cares about public health\, there are meaningful ways to take part in NIAM: \n\nSchedule a Check-Up: Use this month to catch up on any missed vaccines – for yourself or your children.\nHost an Event: Schools\, libraries\, and community centers can organize immunization awareness events\, health fairs\, or Q&A sessions with local health professionals.\nShare on Social Media: Post vaccine facts\, personal stories\, or infographics using NIAM hashtags to help spread the message.\nTalk to Your Community: Help dispel myths and fears by having open\, respectful conversations about the benefits of vaccines.\nSupport Access: Volunteer with or donate to organizations that help provide free or low-cost vaccinations to those in need.\n\nHistory of National Immunization Awareness Month\nNIAM has been observed for decades as a public health campaign\, originally spearheaded by the Centers for Disease Control and Prevention (CDC) and supported by partners like the National Public Health Information Coalition. Over time\, it has evolved into a collaborative effort involving healthcare systems\, schools\, nonprofit groups\, and individual advocates. While the focus on vaccines has always been central\, the importance of the campaign grew dramatically during the COVID-19 pandemic\, when public attention around vaccination reached new levels. \nNoteworthy Facts About National Immunization Awareness Month\n\nVaccines prevent more than 20 life-threatening diseases and save up to 5 million lives globally each year.\nIn the U.S.\, vaccination has eliminated smallpox and drastically reduced diseases like polio\, diphtheria\, and rubella.\nHerd immunity requires high vaccination rates – usually between 85% and 95% depending on the disease.\nNIAM is often timed with back-to-school physicals and vaccine requirements\, making August ideal for family engagement.\nMany states offer free or reduced-cost vaccine programs through local health departments during August.\n\nHashtags\n#NationalImmunizationAwarenessMonth\, #NIAM2026\, #VaccinesWork \nLinks\n\nVisit the official CDC NIAM page\nVaccines.gov – Find Vaccines Near You\nNational Public Health Information Coalition – NIAM Resources
URL:https://www.awarenessdays.com/awareness-days-calendar/national-immunization-awareness-month/
LOCATION:United States\, United States
CATEGORIES:Health & Wellbeing Awareness
ATTACH;FMTTYPE=image/jpeg:https://www.awarenessdays.com/wp-content/uploads/2024/11/iStock-1328730241-1-1.jpg
GEO:37.09024;-95.712891
END:VEVENT
BEGIN:VEVENT
DTSTART;VALUE=DATE:20260801
DTEND;VALUE=DATE:20260901
DTSTAMP:20260423T064741
CREATED:20260312T082911Z
LAST-MODIFIED:20260312T082914Z
UID:10019318-1785542400-1788220799@www.awarenessdays.com
SUMMARY:National Road Victim Month 2026
DESCRIPTION:National Road Victim Month is a dedicated observance aimed at remembering those who have lost their lives or have been injured in road traffic accidents. This month serves as a time for reflection on the impact of road traffic accidents on victims\, families\, and communities. It also raises awareness about road safety and the importance of preventing further tragedies through responsible driving and road use. \nWhat is National Road Victim Month?\nNational Road Victim Month is an annual event that honors the memory of road traffic victims and highlights the ongoing need for improved road safety measures. The month is marked by memorial services\, awareness campaigns\, and educational activities that encourage safer driving practices and support those affected by road traffic accidents. It also provides an opportunity for communities to come together in remembrance and to advocate for stronger road safety policies. \nWhen is National Road Victim Month?\nNational Road Victim Month is observed every year throughout August. The month was chosen because it includes several significant dates related to road safety\, including the anniversary of Britain’s first road death in August 1896. This period is a time for raising public awareness about the dangers of road traffic\, encouraging vigilance on the roads\, and supporting those who have been impacted by road accidents. \nHow to Get Involved\nThere are several ways to participate in National Road Victim Month: \n\nAttend Memorial Services: Participate in or organize memorial events in honor of road traffic victims\, offering support to their families and loved ones.\nPromote Road Safety: Engage in campaigns and initiatives that promote safer driving practices\, such as observing speed limits\, avoiding distractions\, and not driving under the influence.\nSupport Victims and Their Families: Donate to or volunteer with organizations that provide assistance to road traffic accident victims and their families.\nShare Awareness: Use social media and community platforms to share information about road safety\, personal stories\, and tips on how to prevent accidents.\n\nHistory of the Event\nNational Road Victim Month was established by the UK-based charity RoadPeace in 1998. The observance was created to honor those who have been killed or injured in road traffic accidents and to draw attention to the need for improved road safety. Over the years\, the month has become an important time for remembrance\, advocacy\, and education\, with numerous events held across the country to raise awareness about the impact of road accidents and the importance of prevention. \nRelevant Hashtags\n\n#NationalRoadVictimMonth\n#RoadSafety\n#RememberRoadVictims\n#SafeDriving\n#RoadPeace\n\nWhen is National Road Victim Month 2026?\n\n\n\nYear\nStart Date\nEnd Date\n\n\n\n\n2026\n1 August\n31 August\n\n\n2027\nTBC\nTBC\n\n\n2028\nTBC\nTBC
URL:https://www.awarenessdays.com/awareness-days-calendar/national-road-victim-month/
LOCATION:United Kingdom\, United Kingdom
CATEGORIES:Safety & Prevention,United Kingdom
ATTACH;FMTTYPE=image/jpeg:https://www.awarenessdays.com/wp-content/uploads/2024/11/iStock-660523594-1-scaled-e1659991764744-1.jpg
GEO:55.378051;-3.435973
END:VEVENT
END:VCALENDAR